BEGIN:VCALENDAR
VERSION:2.0
PRODID:-//KPNAA.org - ECPv6.15.20//NONSGML v1.0//EN
CALSCALE:GREGORIAN
METHOD:PUBLISH
X-WR-CALNAME:KPNAA.org
X-ORIGINAL-URL:https://kpnaa.org
X-WR-CALDESC:Events for KPNAA.org
REFRESH-INTERVAL;VALUE=DURATION:PT1H
X-Robots-Tag:noindex
X-PUBLISHED-TTL:PT1H
BEGIN:VTIMEZONE
TZID:America/Los_Angeles
BEGIN:DAYLIGHT
TZOFFSETFROM:-0800
TZOFFSETTO:-0700
TZNAME:PDT
DTSTART:20200308T100000
END:DAYLIGHT
BEGIN:STANDARD
TZOFFSETFROM:-0700
TZOFFSETTO:-0800
TZNAME:PST
DTSTART:20201101T090000
END:STANDARD
BEGIN:DAYLIGHT
TZOFFSETFROM:-0800
TZOFFSETTO:-0700
TZNAME:PDT
DTSTART:20210314T100000
END:DAYLIGHT
BEGIN:STANDARD
TZOFFSETFROM:-0700
TZOFFSETTO:-0800
TZNAME:PST
DTSTART:20211107T090000
END:STANDARD
BEGIN:DAYLIGHT
TZOFFSETFROM:-0800
TZOFFSETTO:-0700
TZNAME:PDT
DTSTART:20220313T100000
END:DAYLIGHT
BEGIN:STANDARD
TZOFFSETFROM:-0700
TZOFFSETTO:-0800
TZNAME:PST
DTSTART:20221106T090000
END:STANDARD
END:VTIMEZONE
BEGIN:VEVENT
DTSTART;TZID=America/Los_Angeles:20211205T080000
DTEND;TZID=America/Los_Angeles:20211208T170000
DTSTAMP:20260423T081844
CREATED:20211012T061615Z
LAST-MODIFIED:20220224T185807Z
UID:419-1638691200-1638982800@kpnaa.org
SUMMARY:IHI Forum 2021
DESCRIPTION:​​The IHI Forum Team is hopeful you can join us for this fully virtual conference December 5–8\, 2021. This year\, like every year\, the IHI Forum will give health care professionals a platform to learn and contribute to a shared vision of quality\, equitable care for all. Attendees can expect: \n\n\n\n125+ practical learning sessions300+ speakers6 inspiring keynote presentations*23 networking eventsAccess to all sessions for 90 days after the conference \n\n\n\nhttp://www.ihi.org/education/Conferences/National-Forum/Pages/default.aspx
URL:https://kpnaa.org/event/419/
LOCATION:California
END:VEVENT
END:VCALENDAR